BEGIN:VCALENDAR
VERSION:2.0
PRODID:-//wp-events-plugin.com//7.2.3.1//EN
TZID:America/Denver
X-WR-TIMEZONE:America/Denver
BEGIN:VEVENT
UID:5@sabrinawincklersews.com
DTSTART;TZID=America/Denver:20260425T143000
DTEND;TZID=America/Denver:20260425T163000
DTSTAMP:20251224T211450Z
URL:https://sabrinawincklersews.com/events/intro-to-sewing-with-knits-2/
SUMMARY:Intro to Sewing with Knits
DESCRIPTION:I will be teaching this class at Treelotta in Englewood\, CO. T
 o register for this class\, please head over to Treelotta's site HERE.\n\n
 ___________________________________________\nCLICK HERE for the Class Supp
 ly List\nGet comfortable and confident with knit fabrics! In this class\,
  you’ll learn how knits differ from wovens\, how to choose the right kni
 t for your project\, and the best sewing methods for creating knit garmen
 ts on a standard sewing machine. We’ll explore different knit weights a
 nd types\, walk through essential tools and notions\, and help you underst
 and which fabrics work best for various applications.\nA Swatch Kit is inc
 luded so you can see and feel a variety of knit fabrics as you learn.\n\n\
 n\n\nSkill Level:\nBeginner\n\n\nSkill Details:\nMust have basic understan
 ding of their sewing machine and are curious about sewing knit garments.\n
 \n\nRequirements:\nBring in your sewing machine or contact us to rent one.
  Please make sure your sewing machine is in good working order before atte
 nding class.\n\n\nInstructor:\nSabrina Winckler\n\n\n
ATTACH;FMTTYPE=image/jpeg:https://i0.wp.com/sabrinawincklersews.com/wp-con
 tent/uploads/2025/12/Intro-to-Knit-Fabrics-1.jpg?fit=1080%2C1080&ssl=1
CATEGORIES:Teaching - Treelotta
LOCATION:Treelotta: Fabric + Craft Studio\, 3370 South Broadway\, Englewood
 \, Colorado\, 80113\, United States
X-APPLE-STRUCTURED-LOCATION;VALUE=URI;X-ADDRESS=3370 South Broadway\, Engle
 wood\, Colorado\, 80113\, United States;X-APPLE-RADIUS=100;X-TITLE=Treelot
 ta: Fabric + Craft Studio:geo:0,0
END:VEVENT
BEGIN:VTIMEZONE
TZID:America/Denver
X-LIC-LOCATION:America/Denver
BEGIN:DAYLIGHT
DTSTART:20260308T030000
TZOFFSETFROM:-0700
TZOFFSETTO:-0600
TZNAME:MDT
END:DAYLIGHT
END:VTIMEZONE
END:VCALENDAR