BEGIN:VCALENDAR
VERSION:2.0
PRODID:-//wp-events-plugin.com//7.2.3.1//EN
TZID:America/Denver
X-WR-TIMEZONE:America/Denver
BEGIN:VEVENT
UID:8@sabrinawincklersews.com
DTSTART;TZID=America/Denver:20260803T080000
DTEND;TZID=America/Denver:20260809T180000
DTSTAMP:20251224T211905Z
URL:https://sabrinawincklersews.com/events/vendor-event-us-figure-skating-
 national-showcase-event-tentative/
SUMMARY:Vendor Event - US Figure Skating National Showcase Event (Tentative
 )
DESCRIPTION:Stop by and say hello at this year's National Showcase Event ho
 sted by the Denver CO Figure Skating Club for 2026.\n\n&nbsp\;\n\nMy booth
  will have a selection of figure skating dresses in various sizes as well 
 as hair bows\, scrunchies and hair flourishes.\n\n&nbsp\;\n\nNot seeing an
 ything you like? Let's talk about a custom design!
ATTACH;FMTTYPE=image/jpeg:https://i0.wp.com/sabrinawincklersews.com/wp-con
 tent/uploads/2025/12/20250306_075023_2-scaled.jpg?fit=2560%2C1516&ssl=1
CATEGORIES:Vendor Events
LOCATION:https://www.ssprd.org/Sports-Complex
END:VEVENT
BEGIN:VTIMEZONE
TZID:America/Denver
X-LIC-LOCATION:America/Denver
BEGIN:DAYLIGHT
DTSTART:20260308T030000
TZOFFSETFROM:-0700
TZOFFSETTO:-0600
TZNAME:MDT
END:DAYLIGHT
END:VTIMEZONE
END:VCALENDAR